BEGIN:VCALENDAR
VERSION:2.0
PRODID:-//Kinetic Prosthetics - ECPv6.15.20//NONSGML v1.0//EN
CALSCALE:GREGORIAN
METHOD:PUBLISH
X-ORIGINAL-URL:https://kineticpros.com
X-WR-CALDESC:Events for Kinetic Prosthetics
REFRESH-INTERVAL;VALUE=DURATION:PT1H
X-Robots-Tag:noindex
X-PUBLISHED-TTL:PT1H
BEGIN:VTIMEZONE
TZID:America/New_York
BEGIN:DAYLIGHT
TZOFFSETFROM:-0500
TZOFFSETTO:-0400
TZNAME:EDT
DTSTART:20230312T070000
END:DAYLIGHT
BEGIN:STANDARD
TZOFFSETFROM:-0400
TZOFFSETTO:-0500
TZNAME:EST
DTSTART:20231105T060000
END:STANDARD
BEGIN:DAYLIGHT
TZOFFSETFROM:-0500
TZOFFSETTO:-0400
TZNAME:EDT
DTSTART:20240310T070000
END:DAYLIGHT
BEGIN:STANDARD
TZOFFSETFROM:-0400
TZOFFSETTO:-0500
TZNAME:EST
DTSTART:20241103T060000
END:STANDARD
BEGIN:DAYLIGHT
TZOFFSETFROM:-0500
TZOFFSETTO:-0400
TZNAME:EDT
DTSTART:20250309T070000
END:DAYLIGHT
BEGIN:STANDARD
TZOFFSETFROM:-0400
TZOFFSETTO:-0500
TZNAME:EST
DTSTART:20251102T060000
END:STANDARD
END:VTIMEZONE
BEGIN:VEVENT
DTSTART;TZID=America/New_York:20240112T080000
DTEND;TZID=America/New_York:20240115T170000
DTSTAMP:20260421T114616
CREATED:20240111T195714Z
LAST-MODIFIED:20240111T195744Z
UID:2338-1705046400-1705338000@kineticpros.com
SUMMARY:Camp No Limits - Florida
DESCRIPTION:Camp No Limits – Florida takes place on the Manatee River. Enjoy state-of-the-art zero entrance pool with plenty of shade to relax or area to swim! The 97-acre campus offers ropes courses\, woodland trails\, and tree climbing with assistance from the staff at Common Ground Adventures. Kayak in the cove of the Manatee River with Camp No Limits mentors. Enjoy an evening around a big fire pit and join in on camp songs and eating s’mores. Join in for sessions including energizers\, OT/PT/Sibling Club life skills sessions\, biking clinic\, running clinic\, peer support groups\, dance\, talent show\, treasure hunt themed group activity\, and more! \n\n\n\nCamp Details\n\n\n\nProgram Info\n\n\n\nLocation: Parrish\, Florida \n\n\n\nHost Facility: DaySpring Conference Center \n\n\n\nEligibility: Children with limb loss or limb difference and their families \n\n\n\nCamp Date: January 12-15\, 2024 \n\n\n\nParticipant Info\n\n\n\nLodging: On-Site\, shared space\, lodging available. Semi- private lodging available at additional cost. \n\n\n\nMeals: All meals are provided on-site \n\n\n\nProgram Fee: $500 per person. Children 3 and under do not have a program fee. (Camp No Limits program fee scholarships are available). \n\n\n\nTransportation: Families are responsible for transportation to and from camp. \n\n\n\nSuggested airports: \n\n\n\n●     Tampa International Airport – 46 miles to camp \n\n\n\n●     St.Pete-Clearwater International Airport – 39 miles to camp
URL:https://kineticpros.com/event/camp-no-limits-florida-3/
LOCATION:DaySpring Episcopal Conference Center\, 8411 25th St E\, Parrish\, FL\, 34219\, United States
CATEGORIES:Camp No Limits
ATTACH;FMTTYPE=image/jpeg:https://kineticpros.com/wp-content/uploads/2022/01/Logo.jpg
ORGANIZER;CN="Camp No Limits":MAILTO:info@nolimitsfoundation.org
END:VEVENT
END:VCALENDAR