BEGIN:VCALENDAR
VERSION:2.0
PRODID:-//Kinetic Prosthetics - ECPv6.15.20//NONSGML v1.0//EN
CALSCALE:GREGORIAN
METHOD:PUBLISH
X-ORIGINAL-URL:https://kineticpros.com
X-WR-CALDESC:Events for Kinetic Prosthetics
REFRESH-INTERVAL;VALUE=DURATION:PT1H
X-Robots-Tag:noindex
X-PUBLISHED-TTL:PT1H
BEGIN:VTIMEZONE
TZID:America/New_York
BEGIN:DAYLIGHT
TZOFFSETFROM:-0500
TZOFFSETTO:-0400
TZNAME:EDT
DTSTART:20230312T070000
END:DAYLIGHT
BEGIN:STANDARD
TZOFFSETFROM:-0400
TZOFFSETTO:-0500
TZNAME:EST
DTSTART:20231105T060000
END:STANDARD
BEGIN:DAYLIGHT
TZOFFSETFROM:-0500
TZOFFSETTO:-0400
TZNAME:EDT
DTSTART:20240310T070000
END:DAYLIGHT
BEGIN:STANDARD
TZOFFSETFROM:-0400
TZOFFSETTO:-0500
TZNAME:EST
DTSTART:20241103T060000
END:STANDARD
BEGIN:DAYLIGHT
TZOFFSETFROM:-0500
TZOFFSETTO:-0400
TZNAME:EDT
DTSTART:20250309T070000
END:DAYLIGHT
BEGIN:STANDARD
TZOFFSETFROM:-0400
TZOFFSETTO:-0500
TZNAME:EST
DTSTART:20251102T060000
END:STANDARD
END:VTIMEZONE
BEGIN:VEVENT
DTSTART;TZID=America/New_York:20240301T080000
DTEND;TZID=America/New_York:20240303T170000
DTSTAMP:20260421T090129
CREATED:20240111T195936Z
LAST-MODIFIED:20240111T200010Z
UID:2342-1709280000-1709485200@kineticpros.com
SUMMARY:Camp No Limits - sNOw Limits
DESCRIPTION:Camp Details\n\n\n\nLocation: Newry\, Maine \n\n\n\nHost Facility: Maine Adaptive at Sunday River \n\n\n\nEligibility: Children with limb loss or limb difference and their families \n\n\n\nCamp Date: March 1-3\, 2024 \n\n\n\nProgram Partner: Camp No Limits partners with Maine Adaptive for sNOw Limits. Maine Adaptive provides\, at no cost to individuals with limb loss or limb difference; lift tickets\, adaptive skiing or snowboarding equipment\, outdoor wear\, and trained volunteer instructors who provide high quality lessons. \n\n\n\nParticipant Info\n\n\n\nLodging: Families are responsible for reserving their own hotel room. Some lodging scholarships may be available. \n\n\n\nMeals: All meals are provided on-site \n\n\n\nProgram Fee: $500 per person. Children 3 and under do not have a program fee. (Camp No Limits program fee scholarships are available). \n\n\n\nTransportation: Families are responsible for transportation to and from camp. \n\n\n\nSuggested airports: \n\n\n\n●     Portland International Jetport – 81 miles to camp \n\n\n\n●     Bangor International Airport – 70 miles to camp \n\n\n\n●     Boston Logan International Jetport – 182 miles to camp \n\n\n\n●     Manchester-Boston Regional Airport – 175 miles to camp \n\n\n\nDescription\n\n\n\nCamp sNOw Limits takes place at Sunday River. Maine Adaptive staff and volunteers provide the highest quality equipment and lessons for skiing or snowboarding including everything the camper will need. Family members can rent their own equipment from Sunday River and purchase a lift ticket. Come try a new sport or build upon your skills from previous sNOw Limits! Additional activities include snow tubing\, and a fun night with dinner and games with our friends from Maine Adaptive. \n\n\n\nRequirements for attendance\n\n\n\nComplete all Maine Adaptive’s required paperwork including; application\, physician statement and release form – this needs to be completed by the camper prior to the start of camp.
URL:https://kineticpros.com/event/camp-no-limits-snow-limits/
LOCATION:Sunday River\, 15 South Ridge Road PO Box 4500\, Newry\, ME\, 04261\, United States
CATEGORIES:Camp No Limits
ATTACH;FMTTYPE=image/jpeg:https://kineticpros.com/wp-content/uploads/2022/01/Logo.jpg
ORGANIZER;CN="Camp No Limits":MAILTO:info@nolimitsfoundation.org
END:VEVENT
END:VCALENDAR