BEGIN:VCALENDAR
VERSION:2.0
PRODID:-//Kinetic Prosthetics - ECPv6.15.20//NONSGML v1.0//EN
CALSCALE:GREGORIAN
METHOD:PUBLISH
X-ORIGINAL-URL:https://kineticpros.com
X-WR-CALDESC:Events for Kinetic Prosthetics
REFRESH-INTERVAL;VALUE=DURATION:PT1H
X-Robots-Tag:noindex
X-PUBLISHED-TTL:PT1H
BEGIN:VTIMEZONE
TZID:America/New_York
BEGIN:DAYLIGHT
TZOFFSETFROM:-0500
TZOFFSETTO:-0400
TZNAME:EDT
DTSTART:20240310T070000
END:DAYLIGHT
BEGIN:STANDARD
TZOFFSETFROM:-0400
TZOFFSETTO:-0500
TZNAME:EST
DTSTART:20241103T060000
END:STANDARD
BEGIN:DAYLIGHT
TZOFFSETFROM:-0500
TZOFFSETTO:-0400
TZNAME:EDT
DTSTART:20250309T070000
END:DAYLIGHT
BEGIN:STANDARD
TZOFFSETFROM:-0400
TZOFFSETTO:-0500
TZNAME:EST
DTSTART:20251102T060000
END:STANDARD
BEGIN:DAYLIGHT
TZOFFSETFROM:-0500
TZOFFSETTO:-0400
TZNAME:EDT
DTSTART:20260308T070000
END:DAYLIGHT
BEGIN:STANDARD
TZOFFSETFROM:-0400
TZOFFSETTO:-0500
TZNAME:EST
DTSTART:20261101T060000
END:STANDARD
END:VTIMEZONE
BEGIN:VEVENT
DTSTART;TZID=America/New_York:20250409T180000
DTEND;TZID=America/New_York:20250409T200000
DTSTAMP:20260420T125102
CREATED:20240111T192129Z
LAST-MODIFIED:20250327T161732Z
UID:2294-1744221600-1744228800@kineticpros.com
SUMMARY:ADAPTIVE CLIMBING NIGHTS @ RADNOR (GRAVITY VAULT)
DESCRIPTION:Kinetic Prosthetics & Pennsylvania Center for Adapted Sports (PCAS) have teamed up to host monthly adaptive (disabled) climbing clinics at the indoor climbing gym at Gravity Vault in Radnor! All experience levels\, abilities and ages welcome! \n\n\n\nEVERY 2ND WEDNESDAY OF THE MONTH*6:00PM-8:00PM175 King of Prussia RdRadnor PA 19087 \n\n\n\n*Dates can vary so please confirm with Andrew if the event is happening. This website will be as up-to-date as possible. \n\n\n\nPlease note: around the winter holidays climbing event dates can change. Please email Andrew for the latest updates. \n\n\n\nPLEASE RSVP (every week) & REGISTER (for the 2024 year) with Andrew Skobac at A.SKOBAC@CENTERONLINE.COM
URL:https://kineticpros.com/event/adaptive-climbing-nights-radnor-gravity-vault-24/
LOCATION:Gravity Vault\, 175 King of Prussia Rd\, Radnor\, PA\, 19087\, United States
CATEGORIES:Climbing Night
ATTACH;FMTTYPE=image/png:https://kineticpros.com/wp-content/uploads/2024/01/Radnor-Climbing-Flyer.png
END:VEVENT
END:VCALENDAR