BEGIN:VCALENDAR
VERSION:2.0
PRODID:-//Kinetic Prosthetics - ECPv6.15.20//NONSGML v1.0//EN
CALSCALE:GREGORIAN
METHOD:PUBLISH
X-ORIGINAL-URL:https://kineticpros.com
X-WR-CALDESC:Events for Kinetic Prosthetics
REFRESH-INTERVAL;VALUE=DURATION:PT1H
X-Robots-Tag:noindex
X-PUBLISHED-TTL:PT1H
BEGIN:VTIMEZONE
TZID:America/New_York
BEGIN:DAYLIGHT
TZOFFSETFROM:-0500
TZOFFSETTO:-0400
TZNAME:EDT
DTSTART:20210314T070000
END:DAYLIGHT
BEGIN:STANDARD
TZOFFSETFROM:-0400
TZOFFSETTO:-0500
TZNAME:EST
DTSTART:20211107T060000
END:STANDARD
BEGIN:DAYLIGHT
TZOFFSETFROM:-0500
TZOFFSETTO:-0400
TZNAME:EDT
DTSTART:20220313T070000
END:DAYLIGHT
BEGIN:STANDARD
TZOFFSETFROM:-0400
TZOFFSETTO:-0500
TZNAME:EST
DTSTART:20221106T060000
END:STANDARD
BEGIN:DAYLIGHT
TZOFFSETFROM:-0500
TZOFFSETTO:-0400
TZNAME:EDT
DTSTART:20230312T070000
END:DAYLIGHT
BEGIN:STANDARD
TZOFFSETFROM:-0400
TZOFFSETTO:-0500
TZNAME:EST
DTSTART:20231105T060000
END:STANDARD
END:VTIMEZONE
BEGIN:VEVENT
DTSTART;TZID=America/New_York:20221010T123000
DTEND;TZID=America/New_York:20221010T150000
DTSTAMP:20260420T122707
CREATED:20220825T164226Z
LAST-MODIFIED:20220825T164226Z
UID:1330-1665405000-1665414000@kineticpros.com
SUMMARY:First Swing Golf Clinic
DESCRIPTION:The game of golf can be played by just about every individual with a disability\, regardless of age\, and contributes to emotional and physical well-being\, instilling self-confidence and pride in personal achievement. \nSchedule for the day:\n12:30 pm Boxed lunch\n1:00–3:00 pm Golf instruction by:\nJamie Komancheck PGA Head Golf Professional\, RiverCrest Golf Club & Preserve\nBrian Moose PGA Director of Instruction\, RiverCrest Golf Club & Preserve\nLou Namm NAGA “First Swing” Clinic Instructor. \nBeginner to advanced skill levels welcome. Bryn Mawr Rehab Hospital physical\, occupational and speech therapists will be present to assist with clinic. Clubs provided. Each participant receives a free T-shirt. \nSpace is limited and registration is required. \n  \nTO REGISTER\, contact Hilary Fellin-Knecht\, PT\, MSPT\, program\nmanager\, Bryn Mawr Rehab Hospital\, by calling 484.596.5855
URL:https://kineticpros.com/event/first-swing-golf-clinic/
LOCATION:RiverCrest Golf Club & Preserve\, 100 Golf Club Drive\, Phoenixville\, PA\, 19460\, United States
CATEGORIES:First Swing - Golf
ATTACH;FMTTYPE=image/jpeg:https://kineticpros.com/wp-content/uploads/2022/07/H.-Robertshaw-A.-Martin-and-J.-Sulock-@-First-Swing-1.jpg
END:VEVENT
END:VCALENDAR