BEGIN:VCALENDAR
VERSION:2.0
PRODID:-//Kinetic Prosthetics - ECPv6.15.20//NONSGML v1.0//EN
CALSCALE:GREGORIAN
METHOD:PUBLISH
X-ORIGINAL-URL:https://kineticpros.com
X-WR-CALDESC:Events for Kinetic Prosthetics
REFRESH-INTERVAL;VALUE=DURATION:PT1H
X-Robots-Tag:noindex
X-PUBLISHED-TTL:PT1H
BEGIN:VTIMEZONE
TZID:America/New_York
BEGIN:DAYLIGHT
TZOFFSETFROM:-0500
TZOFFSETTO:-0400
TZNAME:EDT
DTSTART:20210314T070000
END:DAYLIGHT
BEGIN:STANDARD
TZOFFSETFROM:-0400
TZOFFSETTO:-0500
TZNAME:EST
DTSTART:20211107T060000
END:STANDARD
BEGIN:DAYLIGHT
TZOFFSETFROM:-0500
TZOFFSETTO:-0400
TZNAME:EDT
DTSTART:20220313T070000
END:DAYLIGHT
BEGIN:STANDARD
TZOFFSETFROM:-0400
TZOFFSETTO:-0500
TZNAME:EST
DTSTART:20221106T060000
END:STANDARD
BEGIN:DAYLIGHT
TZOFFSETFROM:-0500
TZOFFSETTO:-0400
TZNAME:EDT
DTSTART:20230312T070000
END:DAYLIGHT
BEGIN:STANDARD
TZOFFSETFROM:-0400
TZOFFSETTO:-0500
TZNAME:EST
DTSTART:20231105T060000
END:STANDARD
END:VTIMEZONE
BEGIN:VEVENT
DTSTART;TZID=America/New_York:20220112T180000
DTEND;TZID=America/New_York:20220112T200000
DTSTAMP:20260423T163006
CREATED:20220111T180600Z
LAST-MODIFIED:20220120T175512Z
UID:890-1642010400-1642017600@kineticpros.com
SUMMARY:Free Adaptive Climb – Radnor Location
DESCRIPTION:Kinetic Prosthetics is sponsoring PCAS’s FREE adaptive climbing clinic at Gravity Vault indoor climbing gym in Radnor! We climb the second Wednesday of every month from 6:00-8:00PM. All experience levels\, abilities\, and ages are welcome! \nPlease RSVP with Andrew Skobac at askobac@kineticpros.com
URL:https://kineticpros.com/event/adaptive-climbing-free-for-anyone-who-is-adaptive/
LOCATION:Gravity Vault\, 175 King of Prussia Rd\, Radnor\, PA\, 19087\, United States
CATEGORIES:Climbing Night
ATTACH;FMTTYPE=image/jpeg:https://kineticpros.com/wp-content/uploads/2022/01/Andrew-Allie-Jerry-Reid-Rock-Climbing-10Dec2021-scaled-e1641931794879.jpg
END:VEVENT
BEGIN:VEVENT
DTSTART;VALUE=DATE:20220114
DTEND;VALUE=DATE:20220118
DTSTAMP:20260423T163006
CREATED:20220111T190120Z
LAST-MODIFIED:20220204T185651Z
UID:905-1642118400-1642463999@kineticpros.com
SUMMARY:CAMP NO LIMITS - FLORIDA
DESCRIPTION:Camp No Limits – Florida takes place on the Manatee River. Enjoy state-of-the-art zero entrance pool with plenty of shade to relax or area to swim! The 97-acre campus offers ropes courses\, woodland trails\, and tree climbing with assistance from the staff at Common Ground Adventures. Kayak in the cove of the Manatee River with Camp No Limits mentors. Enjoy an evening around a big fire pit and join in on camp songs and eating s’mores.
URL:https://kineticpros.com/event/camp-no-limits-florida/
LOCATION:DaySpring Episcopal Conference Center\, 8411 25th St E\, Parrish\, FL\, 34219\, United States
CATEGORIES:Camp No Limits
ATTACH;FMTTYPE=image/jpeg:https://kineticpros.com/wp-content/uploads/2022/01/Logo.jpg
ORGANIZER;CN="Camp No Limits":MAILTO:info@nolimitsfoundation.org
END:VEVENT
BEGIN:VEVENT
DTSTART;TZID=America/New_York:20220126T183000
DTEND;TZID=America/New_York:20220126T203000
DTSTAMP:20260423T163006
CREATED:20220111T183859Z
LAST-MODIFIED:20220120T175501Z
UID:898-1643221800-1643229000@kineticpros.com
SUMMARY:Free Adaptive Climb - Philly Location
DESCRIPTION:Kinetic Prosthetics is sponsoring PCAS’s FREE adaptive climbing clinic at the Cliffs at Callowhill indoor climbing gym in Philly! We climb the fourth Wednesday of every month from 6:30-8:30PM. All experience levels\, abilities\, and ages are welcome! \nPlease RSVP with Andrew Skobac at askobac@kineticpros.com
URL:https://kineticpros.com/event/free-adaptive-climb-philly-location/
LOCATION:Movement Callowhill Philly\, 1010 Callowhill Street\, Philadelphia\, 19123-3705\, United States
CATEGORIES:Climbing Night
ATTACH;FMTTYPE=image/jpeg:https://kineticpros.com/wp-content/uploads/2019/05/IMG_2475.jpg
END:VEVENT
END:VCALENDAR