BEGIN:VCALENDAR
VERSION:2.0
PRODID:-//Kinetic Prosthetics - ECPv6.15.20//NONSGML v1.0//EN
CALSCALE:GREGORIAN
METHOD:PUBLISH
X-WR-CALNAME:Kinetic Prosthetics
X-ORIGINAL-URL:https://kineticpros.com
X-WR-CALDESC:Events for Kinetic Prosthetics
REFRESH-INTERVAL;VALUE=DURATION:PT1H
X-Robots-Tag:noindex
X-PUBLISHED-TTL:PT1H
BEGIN:VTIMEZONE
TZID:America/New_York
BEGIN:DAYLIGHT
TZOFFSETFROM:-0500
TZOFFSETTO:-0400
TZNAME:EDT
DTSTART:20210314T070000
END:DAYLIGHT
BEGIN:STANDARD
TZOFFSETFROM:-0400
TZOFFSETTO:-0500
TZNAME:EST
DTSTART:20211107T060000
END:STANDARD
BEGIN:DAYLIGHT
TZOFFSETFROM:-0500
TZOFFSETTO:-0400
TZNAME:EDT
DTSTART:20220313T070000
END:DAYLIGHT
BEGIN:STANDARD
TZOFFSETFROM:-0400
TZOFFSETTO:-0500
TZNAME:EST
DTSTART:20221106T060000
END:STANDARD
BEGIN:DAYLIGHT
TZOFFSETFROM:-0500
TZOFFSETTO:-0400
TZNAME:EDT
DTSTART:20230312T070000
END:DAYLIGHT
BEGIN:STANDARD
TZOFFSETFROM:-0400
TZOFFSETTO:-0500
TZNAME:EST
DTSTART:20231105T060000
END:STANDARD
END:VTIMEZONE
BEGIN:VEVENT
DTSTART;TZID=America/New_York:20221109T180000
DTEND;TZID=America/New_York:20221109T200000
DTSTAMP:20260423T035502
CREATED:20220819T181851Z
LAST-MODIFIED:20220819T182215Z
UID:1320-1668016800-1668024000@kineticpros.com
SUMMARY:Free Adaptive Climb – Radnor Location
DESCRIPTION:Kinetic Prosthetics is sponsoring PCAS’s FREE adaptive climbing clinic at Gravity Vault indoor climbing gym in Radnor! We climb the second Wednesday of every month from 6:00-8:00PM. All experience levels\, abilities\, and ages are welcome! \nPlease RSVP with Andrew Skobac at askobac@kineticpros.com
URL:https://kineticpros.com/event/free-adaptive-climb-radnor-location-8/
LOCATION:Gravity Vault\, 175 King of Prussia Rd\, Radnor\, PA\, 19087\, United States
CATEGORIES:Climbing Night
ATTACH;FMTTYPE=image/jpeg:https://kineticpros.com/wp-content/uploads/2022/01/20211208_195613-scaled-e1641931698660.jpg
END:VEVENT
BEGIN:VEVENT
DTSTART;TZID=America/New_York:20221130T183000
DTEND;TZID=America/New_York:20221130T203000
DTSTAMP:20260423T035502
CREATED:20220819T182613Z
LAST-MODIFIED:20221019T154435Z
UID:1326-1669833000-1669840200@kineticpros.com
SUMMARY:Free Adaptive Climb - Philly Location
DESCRIPTION:Kinetic Prosthetics is sponsoring PCAS’s FREE adaptive climbing clinic at the Cliffs at Callowhill indoor climbing gym in Philly! We climb the fourth Wednesday of every month from 6:30-8:30PM. All experience levels\, abilities\, and ages are welcome! \n**Please note due to upcoming end of year holidays this climbing night date is changed to 11/30/2022** \n  \nPlease RSVP with Andrew Skobac at askobac@kineticpros.com
URL:https://kineticpros.com/event/free-adaptive-climb-philly-location-11/
LOCATION:Movement Callowhill Philly\, 1010 Callowhill Street\, Philadelphia\, 19123-3705\, United States
CATEGORIES:Climbing Night
ATTACH;FMTTYPE=image/jpeg:https://kineticpros.com/wp-content/uploads/2019/02/20181010_193214-e1641931611923.jpg
END:VEVENT
END:VCALENDAR