BEGIN:VCALENDAR
VERSION:2.0
PRODID:-//Kinetic Prosthetics - ECPv6.15.20//NONSGML v1.0//EN
CALSCALE:GREGORIAN
METHOD:PUBLISH
X-WR-CALNAME:Kinetic Prosthetics
X-ORIGINAL-URL:https://kineticpros.com
X-WR-CALDESC:Events for Kinetic Prosthetics
REFRESH-INTERVAL;VALUE=DURATION:PT1H
X-Robots-Tag:noindex
X-PUBLISHED-TTL:PT1H
BEGIN:VTIMEZONE
TZID:America/New_York
BEGIN:DAYLIGHT
TZOFFSETFROM:-0500
TZOFFSETTO:-0400
TZNAME:EDT
DTSTART:20220313T070000
END:DAYLIGHT
BEGIN:STANDARD
TZOFFSETFROM:-0400
TZOFFSETTO:-0500
TZNAME:EST
DTSTART:20221106T060000
END:STANDARD
BEGIN:DAYLIGHT
TZOFFSETFROM:-0500
TZOFFSETTO:-0400
TZNAME:EDT
DTSTART:20230312T070000
END:DAYLIGHT
BEGIN:STANDARD
TZOFFSETFROM:-0400
TZOFFSETTO:-0500
TZNAME:EST
DTSTART:20231105T060000
END:STANDARD
BEGIN:DAYLIGHT
TZOFFSETFROM:-0500
TZOFFSETTO:-0400
TZNAME:EDT
DTSTART:20240310T070000
END:DAYLIGHT
BEGIN:STANDARD
TZOFFSETFROM:-0400
TZOFFSETTO:-0500
TZNAME:EST
DTSTART:20241103T060000
END:STANDARD
END:VTIMEZONE
BEGIN:VEVENT
DTSTART;TZID=America/New_York:20230111T180000
DTEND;TZID=America/New_York:20230111T200000
DTSTAMP:20260423T011538
CREATED:20221220T182931Z
LAST-MODIFIED:20221220T204510Z
UID:1462-1673460000-1673467200@kineticpros.com
SUMMARY:Adaptive Climbing Nights @ Radnor (Gravity Vault)
DESCRIPTION:Kinetic Prosthetics & Pennsylvania Center for Adapted Sports (PCAS) have teamed up to host monthly adaptive (disabled) climbing clinics at the indoor climbing gym at Gravity Vault in Radnor! All experience levels\, abilities and ages welcome! \nEVERY 2ND WEDNESDAY OF THE MONTH*\n6:00PM-8:00PM\n175 King of Prussia Rd\nRadnor PA 19087\n*Dates can vary so please confirm with Andrew if the event is happening. This website will be as up-to-date as possible as well! \nPLEASE RSVP (every week) & REGISTER (for the 2023 year) with Andrew Skobac at A.SKOBAC@CENTERONLINE.COM
URL:https://kineticpros.com/event/adaptive-climbing-nights-radnor-gravity-vault/
LOCATION:Gravity Vault\, 175 King of Prussia Rd\, Radnor\, PA\, 19087\, United States
CATEGORIES:Climbing Night
ATTACH;FMTTYPE=image/jpeg:https://kineticpros.com/wp-content/uploads/2022/01/Andrew-Allie-Jerry-Reid-Rock-Climbing-10Dec2021-1-scaled-e1642700678646.jpg
END:VEVENT
BEGIN:VEVENT
DTSTART;VALUE=DATE:20230113
DTEND;VALUE=DATE:20230117
DTSTAMP:20260423T011538
CREATED:20221221T142732Z
LAST-MODIFIED:20240111T195434Z
UID:1516-1673568000-1673913599@kineticpros.com
SUMMARY:Camp No Limits - Florida
DESCRIPTION:Camp No Limits – Florida takes place on the Manatee River. Enjoy state-of-the-art zero entrance pool with plenty of shade to relax or area to swim! The 97-acre campus offers ropes courses\, woodland trails\, and tree climbing with assistance from the staff at Common Ground Adventures. Kayak in the cove of the Manatee River with Camp No Limits mentors. Enjoy an evening around a big fire pit and join in on camp songs and eating s’mores. Join in for sessions including energizers\, OT/PT/Sibling Club life skills sessions\, biking clinic\, running clinic\, peer support groups\, dance\, talent show\, 80’s themed group activity\, and more!\n\n\nCamp Details\nLocation: Parrish\, Florida\nHost Facility: DaySpring Conference Center\nEligibility: Children with limb loss or limb difference and their families\nCamp Date: January 13-16\, 2023\nCamp Schedule: To be announced\n\n\n\n\nPacking List: VIEW HERE \nLodging: On-Site\, shared space\, lodging available. Semi- private lodging available at additional cost.\nMeals: All meals are provided on-site \n\n\n\n\n\nCost: The true cost of Camp No Limits is $1000 per person. Thanks to generous donations\, and fundraising efforts\, we’re able to significantly offset costs to offer camp to our families at $500 per person. Additional scholarships are available. \nTransportation: Families are responsible for transportation to and from camp. \nSuggested airports: \n\n\n 	Tampa International Airport – 46 miles to camp\n 	St.Pete-Clearwater International Airport – 39 miles to camp
URL:https://kineticpros.com/event/camp-no-limits-florida-2/
LOCATION:DaySpring Episcopal Conference Center\, 8411 25th St E\, Parrish\, FL\, 34219\, United States
CATEGORIES:Camp No Limits
ATTACH;FMTTYPE=image/jpeg:https://kineticpros.com/wp-content/uploads/2022/01/Logo.jpg
ORGANIZER;CN="Camp No Limits":MAILTO:info@nolimitsfoundation.org
END:VEVENT
BEGIN:VEVENT
DTSTART;TZID=America/New_York:20230125T183000
DTEND;TZID=America/New_York:20230125T203000
DTSTAMP:20260423T011538
CREATED:20221220T212945Z
LAST-MODIFIED:20221220T213319Z
UID:1491-1674671400-1674678600@kineticpros.com
SUMMARY:Adaptive Climbing Nights @ Philly (The Cliffs at Callowhill)
DESCRIPTION:Kinetic Prosthetics & Pennsylvania Center for Adapted Sports (PCAS) have teamed up to host monthly adaptive (disabled) climbing clinics at the indoor climbing gym in the Cliffs at Callowhill in Philly! All experience levels\, abilities and ages welcome! \nEVERY 4TH WEDNESDAY OF THE MONTH*\n6:30PM-8:30PM\n1010 Callowhill St\nPhiladelphia\, PA 19123 \n*Dates can vary so please confirm with Andrew if the event is happening. This website will be as up-to-date as possible as well! \nPLEASE RSVP (every week) & REGISTER (for the 2023 year) with Andrew Skobac at A.SKOBAC@CENTERONLINE.COM \n 
URL:https://kineticpros.com/event/adaptive-climbing-nights-philly-the-cliffs-at-callowhill/
LOCATION:Movement Callowhill Philly\, 1010 Callowhill Street\, Philadelphia\, 19123-3705\, United States
CATEGORIES:Climbing Night
ATTACH;FMTTYPE=image/jpeg:https://kineticpros.com/wp-content/uploads/2022/01/20211208_195613-scaled-e1641931698660.jpg
END:VEVENT
END:VCALENDAR