BEGIN:VCALENDAR
VERSION:2.0
PRODID:-//Kinetic Prosthetics - ECPv6.15.20//NONSGML v1.0//EN
CALSCALE:GREGORIAN
METHOD:PUBLISH
X-ORIGINAL-URL:https://kineticpros.com
X-WR-CALDESC:Events for Kinetic Prosthetics
REFRESH-INTERVAL;VALUE=DURATION:PT1H
X-Robots-Tag:noindex
X-PUBLISHED-TTL:PT1H
BEGIN:VTIMEZONE
TZID:America/New_York
BEGIN:DAYLIGHT
TZOFFSETFROM:-0500
TZOFFSETTO:-0400
TZNAME:EDT
DTSTART:20220313T070000
END:DAYLIGHT
BEGIN:STANDARD
TZOFFSETFROM:-0400
TZOFFSETTO:-0500
TZNAME:EST
DTSTART:20221106T060000
END:STANDARD
BEGIN:DAYLIGHT
TZOFFSETFROM:-0500
TZOFFSETTO:-0400
TZNAME:EDT
DTSTART:20230312T070000
END:DAYLIGHT
BEGIN:STANDARD
TZOFFSETFROM:-0400
TZOFFSETTO:-0500
TZNAME:EST
DTSTART:20231105T060000
END:STANDARD
BEGIN:DAYLIGHT
TZOFFSETFROM:-0500
TZOFFSETTO:-0400
TZNAME:EDT
DTSTART:20240310T070000
END:DAYLIGHT
BEGIN:STANDARD
TZOFFSETFROM:-0400
TZOFFSETTO:-0500
TZNAME:EST
DTSTART:20241103T060000
END:STANDARD
END:VTIMEZONE
BEGIN:VEVENT
DTSTART;TZID=America/New_York:20230712T180000
DTEND;TZID=America/New_York:20230712T200000
DTSTAMP:20260422T171024
CREATED:20221220T211414Z
LAST-MODIFIED:20221221T142148Z
UID:1479-1689184800-1689192000@kineticpros.com
SUMMARY:Adaptive Climbing Nights @ Radnor (Gravity Vault)
DESCRIPTION:Kinetic Prosthetics & Pennsylvania Center for Adapted Sports (PCAS) have teamed up to host monthly adaptive (disabled) climbing clinics at the indoor climbing gym at Gravity Vault in Radnor! All experience levels\, abilities and ages welcome! \nEVERY 2ND WEDNESDAY OF THE MONTH*\n6:00PM-8:00PM\n175 King of Prussia Rd\nRadnor PA 19087\n*Dates can vary so please confirm with Andrew if the event is happening. This website will be as up-to-date as possible as well! \nPLEASE RSVP (every week) & REGISTER (for the 2023 year) with Andrew Skobac at A.SKOBAC@CENTERONLINE.COM
URL:https://kineticpros.com/event/adaptive-climbing-nights-radnor-gravity-vault-7/
LOCATION:Gravity Vault\, 175 King of Prussia Rd\, Radnor\, PA\, 19087\, United States
CATEGORIES:Climbing Night
ATTACH;FMTTYPE=image/jpeg:https://kineticpros.com/wp-content/uploads/2019/02/20181010_193214-e1641931611923.jpg
END:VEVENT
BEGIN:VEVENT
DTSTART;VALUE=DATE:20230717
DTEND;VALUE=DATE:20230721
DTSTAMP:20260422T171024
CREATED:20221222T171747Z
LAST-MODIFIED:20230127T142214Z
UID:1532-1689552000-1689897599@kineticpros.com
SUMMARY:Camp No Limits - Maine
DESCRIPTION:Camp No Limits – Maine is set on beautiful North Pond. The waterfront is always a hub of activity with swimming\, kayaking\, canoeing\, low ropes course\, boat rides\, and fishing. Adventure Day is a highlight every year with a rock wall tower\, bungee trampoline\, and waterfront activities. Enjoy an evening around a big fire pit and join in on camp songs and eating s’mores. Join in for sessions including energizers\, OT/PT/Sibling Club life skills sessions\, biking clinic\, running clinic\, peer support groups\, dance\, talent show\, 80’s themed group activity\, and more! Connect with families\, mentors\, and Camp No Limits staff at the original location for Camp No Limits! \n  \n\n\nCamp Details\n\n\n\n\nLocation: Rome\, Maine \nHost Facility: Pine Tree Camp \nEligibility: Children with limb loss or limb difference and their families \nCamp Date: July 17-20\, 2023 \n\n\n\n\nCamp Schedule: TBD \nPacking List: VIEW HERE \nLodging: On-site\, shared space\, lodging is available. Limited private lodging is available for medical needs only. \nMeals: All meals are provided on-site. \n\n\n\n\nCost: The true cost of Camp No Limits is $1000 per person. Thanks to generous donations\, and fundraising efforts\, we’re able to significantly offset costs to offer camp to our families at $500 per person. Additional scholarships are available. \nTransportation: Families are responsible for transportation to and from camp. \nSuggested airports: \n\nPortland International Jetport – 81 miles to camp\nBangor International Airport –  70 miles to camp\nBoston Logan International Jetport –  182 miles to camp\nManchester-Boston Regional Airport – 175 miles to camp
URL:https://kineticpros.com/event/camp-no-limits-maine-3/
LOCATION:Pine Tree Society\, 114 Pine Tree Camp Road\, Rome\, ME\, 04963\, United States
CATEGORIES:Camp No Limits
ATTACH;FMTTYPE=image/jpeg:https://kineticpros.com/wp-content/uploads/2022/01/Logo.jpg
ORGANIZER;CN="Camp No Limits":MAILTO:info@nolimitsfoundation.org
END:VEVENT
BEGIN:VEVENT
DTSTART;VALUE=DATE:20230721
DTEND;VALUE=DATE:20230724
DTSTAMP:20260422T171024
CREATED:20221222T172433Z
LAST-MODIFIED:20230127T142040Z
UID:1534-1689897600-1690156799@kineticpros.com
SUMMARY:Camp No Limits - Teen Camp
DESCRIPTION:Camp No Limits – Teen Camp is a specialty camp of Camp No Limits and is about developing skills for life in the later years such as friendship development\, leadership\, mentorship\, team building and more. Teen Camp is different from all other camps because parents and guardians are not allowed to attend. Our teen and sibling campers work together to challenge themselves\, challenge each other in exciting programs and experience mentorship from older CNL amputee mentors and sibling program leaders. Taking place up in the woods of Maine with no technology available\, activities include whitewater rafting\, high ropes course\, low ropes course\, river float\, games and more! \nPlease note\, there is no programming or lodging provided for parents. CNL staff can recommend local accommodations and activities if you are interested in staying in the same location as your child. Parents will be responsible for the cost of their own accommodations and activities. \nRequirements for attendance: \n\nComplete CNL Health Form- this needs to be completed by the camper and/or siblings physician before they can officially be accepted to attend camp.\nComplete Camp No Limits required Forms and Code of Conduct before the start of camp.\nComplete Adventure Bound paperwork before the start of camp.\n\n  \n\n\nCamp Details\n\n\n\n\nLocation: Caratunk\, Maine \nHost Facility: Adventure Bound \nEligibility: Teens with limb loss or limb difference and their teen sibling \nCamp Date: July 21-23\, 2023 \n\n\n\n\nCamp Schedule: To be announced \nPacking List: To be announced \nLodging: On-site\, boys rustic cabin and girls rustic cabin with a short walk to the boys and girls accessible bathrooms. \nMeals: All meals are provided on-site. \n\n\n\n\nCost: The true cost of Camp No Limits is $1000 per person. Thanks to generous donations\, and fundraising efforts\, we are able to significantly offset costs to offer camp to our families at $500 per person. Additional scholarships are available. \nTransportation: Families are responsible for transportation to and from camp. \nSuggested airports: \n\nPortland International Jetport – 133 miles to camp
URL:https://kineticpros.com/event/camp-no-limits-teen-camp/
LOCATION:Adventure Bound\, 1094 US RT 201\, Caratunk\, ME\, 04925\, United States
CATEGORIES:Camp No Limits
ATTACH;FMTTYPE=image/jpeg:https://kineticpros.com/wp-content/uploads/2022/01/Logo.jpg
ORGANIZER;CN="Camp No Limits":MAILTO:info@nolimitsfoundation.org
END:VEVENT
BEGIN:VEVENT
DTSTART;VALUE=DATE:20230723
DTEND;VALUE=DATE:20230726
DTSTAMP:20260422T171024
CREATED:20221222T191751Z
LAST-MODIFIED:20241016T134853Z
UID:1552-1690070400-1690329599@kineticpros.com
SUMMARY:36th Eastern Regional Amputee Golf Championship
DESCRIPTION:The Eastern Amputee Golf Association (EAGA) \nwas formed by Bob Buck\, retired National Amputee Golf Association’s Eastern Trustee\, and others who were interested in developing a regional amputee golf association. \nThe EAGA was formed along the same guidelines as that of the National Amputee Golf Association (NAGA) but has its own Officers\, Constitution\, Bylaws\, and Membership Dues. EAGA’s prime purpose is to organize and conduct amputee golfing events and “Learn to Golf” clinics for any physically challenged individual\, provide communication between its members and act as a bridge between its members and the National Association. \nThe EAGA also assists NAGA in conducting the “First Swing” seminars for rehabilitation\, parks and recreation\, and golf professionals. \nThe EAGA conducts two-day golf tournaments and one-day outings and scrambles\, plus its annual three-day major event – Eastern Regional Amputee Golf Championship. It also conducts NAGA “First Swing” Seminars & “Learn to Golf” clinics in our East Region. The EAGA hopes to attract more amputees to experience the fun and excitement of this wonderful game. Through the valiant efforts of our membership\, we are beginning to gain more media attention in the hopes of reaching as many amputees as possible and introducing them to golf and the EAGA.
URL:https://kineticpros.com/event/36th-eastern-regional-amputee-golf-championship/
LOCATION:Saucon Valley Country Club\, 2050 Saucon Valley Rd\, Bethlehem\, PA\, 18015\, United States
CATEGORIES:EAGA
ATTACH;FMTTYPE=image/jpeg:https://kineticpros.com/wp-content/uploads/2022/12/EAGA-Logo.jpg
END:VEVENT
BEGIN:VEVENT
DTSTART;TZID=America/New_York:20230726T183000
DTEND;TZID=America/New_York:20230726T203000
DTSTAMP:20260422T171024
CREATED:20221221T134624Z
LAST-MODIFIED:20221221T134624Z
UID:1505-1690396200-1690403400@kineticpros.com
SUMMARY:Adaptive Climbing Nights @ Philly (The Cliffs at Callowhill)
DESCRIPTION:Kinetic Prosthetics & Pennsylvania Center for Adapted Sports (PCAS) have teamed up to host monthly adaptive (disabled) climbing clinics at the indoor climbing gym in the Cliffs at Callowhill in Philly! All experience levels\, abilities and ages welcome! \nEVERY 4TH WEDNESDAY OF THE MONTH*\n6:30PM-8:30PM\n1010 Callowhill St\nPhiladelphia\, PA 19123 \n*Dates can vary so please confirm with Andrew if the event is happening. This website will be as up-to-date as possible as well! \nPLEASE RSVP (every week) & REGISTER (for the 2023 year) with Andrew Skobac at A.SKOBAC@CENTERONLINE.COM \n 
URL:https://kineticpros.com/event/adaptive-climbing-nights-philly-the-cliffs-at-callowhill-7/
LOCATION:Movement Callowhill Philly\, 1010 Callowhill Street\, Philadelphia\, 19123-3705\, United States
CATEGORIES:Climbing Night
ATTACH;FMTTYPE=image/jpeg:https://kineticpros.com/wp-content/uploads/2022/01/Allie-Jerry-Reid-@-top-Rock-Climbing-scaled.jpg
END:VEVENT
END:VCALENDAR