BEGIN:VCALENDAR
VERSION:2.0
PRODID:-//Kinetic Prosthetics - ECPv6.15.20//NONSGML v1.0//EN
CALSCALE:GREGORIAN
METHOD:PUBLISH
X-ORIGINAL-URL:https://kineticpros.com
X-WR-CALDESC:Events for Kinetic Prosthetics
REFRESH-INTERVAL;VALUE=DURATION:PT1H
X-Robots-Tag:noindex
X-PUBLISHED-TTL:PT1H
BEGIN:VTIMEZONE
TZID:America/New_York
BEGIN:DAYLIGHT
TZOFFSETFROM:-0500
TZOFFSETTO:-0400
TZNAME:EDT
DTSTART:20220313T070000
END:DAYLIGHT
BEGIN:STANDARD
TZOFFSETFROM:-0400
TZOFFSETTO:-0500
TZNAME:EST
DTSTART:20221106T060000
END:STANDARD
BEGIN:DAYLIGHT
TZOFFSETFROM:-0500
TZOFFSETTO:-0400
TZNAME:EDT
DTSTART:20230312T070000
END:DAYLIGHT
BEGIN:STANDARD
TZOFFSETFROM:-0400
TZOFFSETTO:-0500
TZNAME:EST
DTSTART:20231105T060000
END:STANDARD
BEGIN:DAYLIGHT
TZOFFSETFROM:-0500
TZOFFSETTO:-0400
TZNAME:EDT
DTSTART:20240310T070000
END:DAYLIGHT
BEGIN:STANDARD
TZOFFSETFROM:-0400
TZOFFSETTO:-0500
TZNAME:EST
DTSTART:20241103T060000
END:STANDARD
END:VTIMEZONE
BEGIN:VEVENT
DTSTART;TZID=America/New_York:20230913T180000
DTEND;TZID=America/New_York:20230913T200000
DTSTAMP:20260422T140933
CREATED:20221220T212007Z
LAST-MODIFIED:20221220T212008Z
UID:1483-1694628000-1694635200@kineticpros.com
SUMMARY:Adaptive Climbing Nights @ Radnor (Gravity Vault)
DESCRIPTION:Kinetic Prosthetics & Pennsylvania Center for Adapted Sports (PCAS) have teamed up to host monthly adaptive (disabled) climbing clinics at the indoor climbing gym at Gravity Vault in Radnor! All experience levels\, abilities and ages welcome! \nEVERY 2ND WEDNESDAY OF THE MONTH*\n6:00PM-8:00PM\n175 King of Prussia Rd\nRadnor PA 19087\n*Dates can vary so please confirm with Andrew if the event is happening. This website will be as up-to-date as possible as well! \nPLEASE RSVP (every week) & REGISTER (for the 2023 year) with Andrew Skobac at A.SKOBAC@CENTERONLINE.COM
URL:https://kineticpros.com/event/adaptive-climbing-nights-radnor-gravity-vault-9/
LOCATION:Gravity Vault\, 175 King of Prussia Rd\, Radnor\, PA\, 19087\, United States
CATEGORIES:Climbing Night
ATTACH;FMTTYPE=image/jpeg:https://kineticpros.com/wp-content/uploads/2019/05/IMG_2475.jpg
END:VEVENT
BEGIN:VEVENT
DTSTART;VALUE=DATE:20230922
DTEND;VALUE=DATE:20230925
DTSTAMP:20260422T140933
CREATED:20221222T174609Z
LAST-MODIFIED:20230127T141226Z
UID:1540-1695340800-1695599999@kineticpros.com
SUMMARY:Camo No Limits - Arizona
DESCRIPTION:Camp No Limits – Arizona is a new program model. Camp No Limits programming will take place during the day at Ability360. Enjoy the beautiful facilities and top notch instruction provided by Ability360 volunteers and staff for wheelchair/stand up basketball and pickleball. Highlights of the camp include a dance on the rooftop and a fully accessible facility. Additional activities including rock climbing and a beautiful outdoor pool! Join in for sessions including energizers\, OT/PT/Sibling Club life skills sessions\, biking clinic\, running clinic\, peer support groups\, dance\, talent show\, 80’s themed group activity and more! \n  \n\n\nCamp Details\n\n\n\n\nLocation: Phoenix\, Arizona \nHost Facility: Ability360 \nEligibility: Children with limb loss or limb difference and their families \nCamp Date: September 22-24\, 2024 \nProgram Partner: Camp No Limits – Arizona is supported by the facility\, equipment\, volunteers and staff at Ability360. \n\n\n\n\nCamp Schedule: To be announced \nPacking List: VIEW HERE \nLodging:  Families are responsible for reserving their own hotel room. Some lodging scholarships may be available for those in need. \nMeals: Lunch and dinner will be provided. \n\n\n\n\nCost: The true cost of Camp No Limits is $1000 per person. Thanks to generous donations\, and fundraising efforts\, we’re able to significantly offset costs to offer camp to our families at $500 per person. Additional scholarships are available. \nTransportation: Families are responsible for transportation to and from camp. Public transportation is available and we suggest the Valley Metro Rail. \nSuggested airports: \n\nPhoenix Sky Harbor International Airport – 2.5 miles to camp\, public transportation available.
URL:https://kineticpros.com/event/camp-no-limits-arizona-2/
LOCATION:Ability360\, 5025 E. Washington St.\, Ste. 200\, Phoenix\, AZ\, 85034\, United States
CATEGORIES:Camp No Limits
ATTACH;FMTTYPE=image/jpeg:https://kineticpros.com/wp-content/uploads/2022/01/Logo.jpg
ORGANIZER;CN="Camp No Limits":MAILTO:info@nolimitsfoundation.org
END:VEVENT
BEGIN:VEVENT
DTSTART;TZID=America/New_York:20230926T183000
DTEND;TZID=America/New_York:20230926T203000
DTSTAMP:20260422T140933
CREATED:20221221T140418Z
LAST-MODIFIED:20230731T174632Z
UID:1509-1695753000-1695760200@kineticpros.com
SUMMARY:Adaptive Climbing Nights @ Philly (The Cliffs at Callowhill)
DESCRIPTION:Kinetic Prosthetics & Pennsylvania Center for Adapted Sports (PCAS) have teamed up to host monthly adaptive (disabled) climbing clinics at the indoor climbing gym in the Cliffs at Callowhill in Philly! All experience levels\, abilities and ages welcome! \nEVERY 4TH WEDNESDAY OF THE MONTH*\n6:30PM-8:30PM\n1010 Callowhill St\nPhiladelphia\, PA 19123 \n*Dates can vary so please confirm with Andrew if the event is happening. This website will be as up-to-date as possible as well! \nPLEASE RSVP (every week) & REGISTER (for the 2023 year) with Andrew Skobac at A.SKOBAC@CENTERONLINE.COM \n 
URL:https://kineticpros.com/event/adaptive-climbing-nights-philly-the-cliffs-at-callowhill-9/
LOCATION:Movement Callowhill Philly\, 1010 Callowhill Street\, Philadelphia\, 19123-3705\, United States
CATEGORIES:Climbing Night
ATTACH;FMTTYPE=image/jpeg:https://kineticpros.com/wp-content/uploads/2019/05/IMG_2475.jpg
END:VEVENT
END:VCALENDAR