BEGIN:VCALENDAR
VERSION:2.0
PRODID:-//Kinetic Prosthetics - ECPv6.15.20//NONSGML v1.0//EN
CALSCALE:GREGORIAN
METHOD:PUBLISH
X-ORIGINAL-URL:https://kineticpros.com
X-WR-CALDESC:Events for Kinetic Prosthetics
REFRESH-INTERVAL;VALUE=DURATION:PT1H
X-Robots-Tag:noindex
X-PUBLISHED-TTL:PT1H
BEGIN:VTIMEZONE
TZID:America/New_York
BEGIN:DAYLIGHT
TZOFFSETFROM:-0500
TZOFFSETTO:-0400
TZNAME:EDT
DTSTART:20220313T070000
END:DAYLIGHT
BEGIN:STANDARD
TZOFFSETFROM:-0400
TZOFFSETTO:-0500
TZNAME:EST
DTSTART:20221106T060000
END:STANDARD
BEGIN:DAYLIGHT
TZOFFSETFROM:-0500
TZOFFSETTO:-0400
TZNAME:EDT
DTSTART:20230312T070000
END:DAYLIGHT
BEGIN:STANDARD
TZOFFSETFROM:-0400
TZOFFSETTO:-0500
TZNAME:EST
DTSTART:20231105T060000
END:STANDARD
BEGIN:DAYLIGHT
TZOFFSETFROM:-0500
TZOFFSETTO:-0400
TZNAME:EDT
DTSTART:20240310T070000
END:DAYLIGHT
BEGIN:STANDARD
TZOFFSETFROM:-0400
TZOFFSETTO:-0500
TZNAME:EST
DTSTART:20241103T060000
END:STANDARD
END:VTIMEZONE
BEGIN:VEVENT
DTSTART;VALUE=DATE:20231006
DTEND;VALUE=DATE:20231009
DTSTAMP:20260422T130115
CREATED:20221222T175009Z
LAST-MODIFIED:20240111T192924Z
UID:1542-1696550400-1696809599@kineticpros.com
SUMMARY:Camp No Limit - Tennessee Camp
DESCRIPTION:Camp No Limits – Tennessee takes place at the beautiful YMCA Camp Widjiwagan. Our activities include kayaking\, canoeing\, a big buzz tower\, zip line\, kangaroo jumper\, and a banana boat ride. Join in for sessions including energizers\, OT/PT/Sibling Club life skills sessions\, biking clinic\, running clinic\, peer support groups\, dance\, talent show\, 80’s themed group activity\, and more!\n\n \n\n\nCamp Details\n\n\n\n\nLocation: Antioch\, Tennessee \nHost Facility: YMCA Camp Widjiwagan \nEligibility: Children with limb loss or limb difference and their families \nCamp Date: October 6-8\, 2023 \n\n\n\n\n\nCamp Schedule: To be announced \nPacking List: To be announced \nLodging: On-Site in cabins that have shared sleeping quarters and bathrooms \nMeals: All meals are provided on-site \n\n\n\n\n\nCost: The true cost of Camp No Limits is $1000 per person. Thanks to generous donations\, and fundraising efforts\, we are able to significantly offset costs to offer camp to our families at $500 per person. Additional scholarships are available. \nTransportation: Families are responsible for transportation to and from camp. \nSuggested airports: Nashville International Airport – 8.0 miles from camp
URL:https://kineticpros.com/event/camp-no-limits-tennessee-camp/
LOCATION:YMCA Camp Widjiwagan\, 3088 Smith Springs Rd\, Antioch\, TN\, 37013\, United States
CATEGORIES:Camp No Limits
ATTACH;FMTTYPE=image/jpeg:https://kineticpros.com/wp-content/uploads/2022/01/Logo.jpg
ORGANIZER;CN="Camp No Limits":MAILTO:info@nolimitsfoundation.org
END:VEVENT
BEGIN:VEVENT
DTSTART;TZID=America/New_York:20231011T180000
DTEND;TZID=America/New_York:20231011T200000
DTSTAMP:20260422T130115
CREATED:20221220T212228Z
LAST-MODIFIED:20221220T212228Z
UID:1485-1697047200-1697054400@kineticpros.com
SUMMARY:Adaptive Climbing Nights @ Radnor (Gravity Vault)
DESCRIPTION:Kinetic Prosthetics & Pennsylvania Center for Adapted Sports (PCAS) have teamed up to host monthly adaptive (disabled) climbing clinics at the indoor climbing gym at Gravity Vault in Radnor! All experience levels\, abilities and ages welcome! \nEVERY 2ND WEDNESDAY OF THE MONTH*\n6:00PM-8:00PM\n175 King of Prussia Rd\nRadnor PA 19087\n*Dates can vary so please confirm with Andrew if the event is happening. This website will be as up-to-date as possible as well! \nPLEASE RSVP (every week) & REGISTER (for the 2023 year) with Andrew Skobac at A.SKOBAC@CENTERONLINE.COM
URL:https://kineticpros.com/event/adaptive-climbing-nights-radnor-gravity-vault-10/
LOCATION:Gravity Vault\, 175 King of Prussia Rd\, Radnor\, PA\, 19087\, United States
CATEGORIES:Climbing Night
ATTACH;FMTTYPE=image/jpeg:https://kineticpros.com/wp-content/uploads/2022/01/Allie-Jerry-Reid-@-top-Rock-Climbing-scaled.jpg
END:VEVENT
BEGIN:VEVENT
DTSTART;TZID=America/New_York:20231025T183000
DTEND;TZID=America/New_York:20231025T203000
DTSTAMP:20260422T130115
CREATED:20221221T141529Z
LAST-MODIFIED:20221221T141529Z
UID:1511-1698258600-1698265800@kineticpros.com
SUMMARY:Adaptive Climbing Nights @ Philly (The Cliffs at Callowhill)
DESCRIPTION:Kinetic Prosthetics & Pennsylvania Center for Adapted Sports (PCAS) have teamed up to host monthly adaptive (disabled) climbing clinics at the indoor climbing gym in the Cliffs at Callowhill in Philly! All experience levels\, abilities and ages welcome! \nEVERY 4TH WEDNESDAY OF THE MONTH*\n6:30PM-8:30PM\n1010 Callowhill St\nPhiladelphia\, PA 19123 \n*Dates can vary so please confirm with Andrew if the event is happening. This website will be as up-to-date as possible as well! \nPLEASE RSVP (every week) & REGISTER (for the 2023 year) with Andrew Skobac at A.SKOBAC@CENTERONLINE.COM \n 
URL:https://kineticpros.com/event/adaptive-climbing-nights-philly-the-cliffs-at-callowhill-10/
LOCATION:Movement Callowhill Philly\, 1010 Callowhill Street\, Philadelphia\, 19123-3705\, United States
CATEGORIES:Climbing Night
ATTACH;FMTTYPE=image/jpeg:https://kineticpros.com/wp-content/uploads/2022/01/20211208_195613-scaled-e1641931698660.jpg
END:VEVENT
END:VCALENDAR