BEGIN:VCALENDAR
VERSION:2.0
PRODID:-//Kinetic Prosthetics - ECPv6.15.20//NONSGML v1.0//EN
CALSCALE:GREGORIAN
METHOD:PUBLISH
X-ORIGINAL-URL:https://kineticpros.com
X-WR-CALDESC:Events for Kinetic Prosthetics
REFRESH-INTERVAL;VALUE=DURATION:PT1H
X-Robots-Tag:noindex
X-PUBLISHED-TTL:PT1H
BEGIN:VTIMEZONE
TZID:America/New_York
BEGIN:DAYLIGHT
TZOFFSETFROM:-0500
TZOFFSETTO:-0400
TZNAME:EDT
DTSTART:20210314T070000
END:DAYLIGHT
BEGIN:STANDARD
TZOFFSETFROM:-0400
TZOFFSETTO:-0500
TZNAME:EST
DTSTART:20211107T060000
END:STANDARD
BEGIN:DAYLIGHT
TZOFFSETFROM:-0500
TZOFFSETTO:-0400
TZNAME:EDT
DTSTART:20220313T070000
END:DAYLIGHT
BEGIN:STANDARD
TZOFFSETFROM:-0400
TZOFFSETTO:-0500
TZNAME:EST
DTSTART:20221106T060000
END:STANDARD
BEGIN:DAYLIGHT
TZOFFSETFROM:-0500
TZOFFSETTO:-0400
TZNAME:EDT
DTSTART:20230312T070000
END:DAYLIGHT
BEGIN:STANDARD
TZOFFSETFROM:-0400
TZOFFSETTO:-0500
TZNAME:EST
DTSTART:20231105T060000
END:STANDARD
END:VTIMEZONE
BEGIN:VEVENT
DTSTART;TZID=America/New_York:20220612T120000
DTEND;TZID=America/New_York:20220612T143000
DTSTAMP:20260420T183226
CREATED:20220228T180124Z
LAST-MODIFIED:20220611T171029Z
UID:1172-1655035200-1655044200@kineticpros.com
SUMMARY:Limb-itless Cookout
DESCRIPTION:6/11/2021 UPDATE:  \nFor the safety of everyone since thunder and lightning is being forecast for tomorrow during our event\, we are going to cancel the event. \nWe are truly delighted by the amount of people who RSVP and know this is an event we will continue in the future. Look for more communication in the fall! Hope you have a great weekend! \nThank you everyone\, \n  \nWe invite all limb loss and limb different individuals\, and their families\, to join us for an afternoon of BBQ and games! Whether it be the food\, games or to socialize with others like yourself please feel free to come out! \nThere will be food and beverages provided. Please feel free to bring a dish if you like but plenty of food will be available for everyone! No alcoholic beverages are permitted at the park\, we ask everyone to please be respectful of this. There will also be table top games\, tie-dying\, sack race\, kickball\, and other activities! \nThe event has been rescheduled due to rain to Sunday June 12\, 2022 from 12:00-2:30PM at West Goshen Community Park. 1023 Fern Hill Rd\, West Chester\, PA 19380. Please RSVP by April 30\, 2022 by either filling out the form below or emailing amartin@kineticpros.com \nPlease let us know of any food allergies and/or food restrictions in your RSVP. \n 
URL:https://kineticpros.com/event/limb-itless_cookout/
LOCATION:West Goshen Community Park\, 1023 Fern Hill Rd\, West Chester\, PA\, 19380\, United States
CATEGORIES:Amputee Appreciation
ATTACH;FMTTYPE=image/jpeg:https://kineticpros.com/wp-content/uploads/2022/02/Cancelled-Event-Flyer.jpg
END:VEVENT
END:VCALENDAR