BEGIN:VCALENDAR
VERSION:2.0
PRODID:-//Kinetic Prosthetics - ECPv6.15.20//NONSGML v1.0//EN
CALSCALE:GREGORIAN
METHOD:PUBLISH
X-ORIGINAL-URL:https://kineticpros.com
X-WR-CALDESC:Events for Kinetic Prosthetics
REFRESH-INTERVAL;VALUE=DURATION:PT1H
X-Robots-Tag:noindex
X-PUBLISHED-TTL:PT1H
BEGIN:VTIMEZONE
TZID:America/New_York
BEGIN:DAYLIGHT
TZOFFSETFROM:-0500
TZOFFSETTO:-0400
TZNAME:EDT
DTSTART:20220313T070000
END:DAYLIGHT
BEGIN:STANDARD
TZOFFSETFROM:-0400
TZOFFSETTO:-0500
TZNAME:EST
DTSTART:20221106T060000
END:STANDARD
BEGIN:DAYLIGHT
TZOFFSETFROM:-0500
TZOFFSETTO:-0400
TZNAME:EDT
DTSTART:20230312T070000
END:DAYLIGHT
BEGIN:STANDARD
TZOFFSETFROM:-0400
TZOFFSETTO:-0500
TZNAME:EST
DTSTART:20231105T060000
END:STANDARD
BEGIN:DAYLIGHT
TZOFFSETFROM:-0500
TZOFFSETTO:-0400
TZNAME:EDT
DTSTART:20240310T070000
END:DAYLIGHT
BEGIN:STANDARD
TZOFFSETFROM:-0400
TZOFFSETTO:-0500
TZNAME:EST
DTSTART:20241103T060000
END:STANDARD
END:VTIMEZONE
BEGIN:VEVENT
DTSTART;VALUE=DATE:20230309
DTEND;VALUE=DATE:20230313
DTSTAMP:20260422T015508
CREATED:20221221T183517Z
LAST-MODIFIED:20230127T142950Z
UID:1518-1678320000-1678665599@kineticpros.com
SUMMARY:Camp No Limits - Maine
DESCRIPTION:Camp sNOw Limits takes place at Sunday River. Maine Adaptive staff and volunteers provide the highest quality equipment and lessons for skiing or snowboarding including everything the camper will need. Family members can rent their own equipment from Sunday River and purchase a lift ticket. Come try a new sport or build upon your skills from previous sNOw Limits! Additional activities include snow tubing\, and a fun night with dinner and games with our friends from Maine Adaptive. \n\n\nCamp Details\n\n\n\n\nLocation: Newry\, Maine \nHost Facility: Maine Adaptive at Sunday River \nEligibility: Children with limb loss or limb difference and their families \nCamp Date: March 9-12\, 2023 \nProgram Partner: Camp No Limits partners with Maine Adaptive for sNOw Limits. Maine Adaptive provides\, at no cost to individuals with limb loss or limb difference; lift tickets\, adaptive skiing or snowboarding equipment\, outdoor wear\, and trained volunteer instructors who provide high quality lessons. \n\n\n\n\nLodging: Families are responsible for their own hotel room. \nMeals: All meals are provided on-site. \n\n\n\n\nCost: The true cost of Camp No Limits is $1000 per person. Thanks to generous donations\, and fundraising efforts\, we’re able to significantly offset costs to offer camp to our families at $500 per person. Additional scholarships are available. \nTransportation: Families are responsible for transportation to and from camp. \nSuggested airports: \n\nPortland International Jetport – 81 miles to camp\nBangor International Airport –  70 miles to camp\nBoston Logan International Jetport –  182 miles to camp\nManchester-Boston Regional Airport – 175 miles to camp\n\n\n\nRequirements for attendance: Complete all Maine Adaptive’s required paperwork including; application\, physician statement and release form – this needs to be completed by the camper prior to the start of camp.
URL:https://kineticpros.com/event/camp-no-limits-maine-2/
LOCATION:Sunday River\, 15 South Ridge Road PO Box 4500\, Newry\, ME\, 04261\, United States
CATEGORIES:Camp No Limits
ATTACH;FMTTYPE=image/jpeg:https://kineticpros.com/wp-content/uploads/2022/01/Logo.jpg
ORGANIZER;CN="Camp No Limits":MAILTO:info@nolimitsfoundation.org
END:VEVENT
BEGIN:VEVENT
DTSTART;VALUE=DATE:20230331
DTEND;VALUE=DATE:20230404
DTSTAMP:20260422T015508
CREATED:20221221T184455Z
LAST-MODIFIED:20230127T142919Z
UID:1521-1680220800-1680566399@kineticpros.com
SUMMARY:Camp No Limits - Texas
DESCRIPTION:Camp No Limits – Texas takes place at Camp Moody. Enjoy archery\, canoeing\, zip line\, rock wall and a static course on the Challenge Tower. Join in for sessions including energizers\, OT/PT/Sibling Club life skills sessions\, biking clinic\, running clinic\, peer support groups\, dance\, talent show\, 80’s themed group activity\, and more! \n  \n\n\nCamp Details\n\n\n\n\nLocation: Buda\, Texas \nHost Facility: YMCA Camp Moody\nCamp No Limits – Texas is supported by Hanger Charitable Foundation \nEligibility: Children with limb loss or limb difference and their families \nCamp Date: March 31- April 3\, 2023 \n\n\n\n\nCamp Schedule: To be announced \nPacking List: VIEW HERE \nLodging: Families are responsible for reserving their own hotel room. Some lodging scholarships may be available for those in need. \nMeals: All meals are provided on-site \n\n\n\n\nCost: The true cost of Camp No Limits is $1000 per person. Thanks to generous donations\, and fundraising efforts\, we’re able to significantly offset costs to offer camp to our families at $500 per person. Additional scholarships are available. \nTransportation: Families are responsible for transportation to and from camp. It is possible to take an Uber or Lyft to camp. \nSuggested airports: \n\nAustin-Bergstrom International Airport – 16 miles to camp
URL:https://kineticpros.com/event/camp-no-limits-texas-2/
LOCATION:YMCA at Camp Moody (Austin)\, 1220 Old San Antonio Rd\, Buda\, TX\, 78610\, United States
CATEGORIES:Camp No Limits
ATTACH;FMTTYPE=image/jpeg:https://kineticpros.com/wp-content/uploads/2022/01/Logo.jpg
ORGANIZER;CN="Camp No Limits":MAILTO:info@nolimitsfoundation.org
END:VEVENT
END:VCALENDAR