BEGIN:VCALENDAR
VERSION:2.0
PRODID:-//Kinetic Prosthetics - ECPv6.15.20//NONSGML v1.0//EN
CALSCALE:GREGORIAN
METHOD:PUBLISH
X-WR-CALNAME:Kinetic Prosthetics
X-ORIGINAL-URL:https://kineticpros.com
X-WR-CALDESC:Events for Kinetic Prosthetics
REFRESH-INTERVAL;VALUE=DURATION:PT1H
X-Robots-Tag:noindex
X-PUBLISHED-TTL:PT1H
BEGIN:VTIMEZONE
TZID:America/New_York
BEGIN:DAYLIGHT
TZOFFSETFROM:-0500
TZOFFSETTO:-0400
TZNAME:EDT
DTSTART:20220313T070000
END:DAYLIGHT
BEGIN:STANDARD
TZOFFSETFROM:-0400
TZOFFSETTO:-0500
TZNAME:EST
DTSTART:20221106T060000
END:STANDARD
BEGIN:DAYLIGHT
TZOFFSETFROM:-0500
TZOFFSETTO:-0400
TZNAME:EDT
DTSTART:20230312T070000
END:DAYLIGHT
BEGIN:STANDARD
TZOFFSETFROM:-0400
TZOFFSETTO:-0500
TZNAME:EST
DTSTART:20231105T060000
END:STANDARD
BEGIN:DAYLIGHT
TZOFFSETFROM:-0500
TZOFFSETTO:-0400
TZNAME:EDT
DTSTART:20240310T070000
END:DAYLIGHT
BEGIN:STANDARD
TZOFFSETFROM:-0400
TZOFFSETTO:-0500
TZNAME:EST
DTSTART:20241103T060000
END:STANDARD
END:VTIMEZONE
BEGIN:VEVENT
DTSTART;VALUE=DATE:20230619
DTEND;VALUE=DATE:20230622
DTSTAMP:20260421T215351
CREATED:20221221T214509Z
LAST-MODIFIED:20230127T142744Z
UID:1529-1687132800-1687391999@kineticpros.com
SUMMARY:Camp No Limits - PIVOT180 (Rotationplasty) Illinois
DESCRIPTION:Camp No Limits is offering a specialty camp specific for Rotationplasty limb difference. Enjoy activities provided by CNL and network with other families\, adults\, and PTs and Prosthetists specializing in Rotationplasty. Enjoy the beautiful campus\, organic gardens\, wildlife discovery center\, swimming\, kayaking\, and a fun filled adventure afternoon! Join in for sessions including energizers\, PT/Sibling Club life skills sessions\, biking clinic\, running clinic\, peer support groups\, dance\, talent show\, 80’s themed group activity\, and more! \n  \n\n\nCamp Details\n\n\n\n\nLocation: Lake Forest\, Illinois \nHost Facility: Lake Forest Academy \nEligibility: Campers with rotationplasty limb difference or failed rotationplasty and their families. \nCamp Date: June 19-21\, 2023 \nProgram Partner: CNL collaborates with Pivot 180 to offer this specialty camp. GLASA will be providing instructors and adaptive equipment for activities. \n\n\n\n\nLodging: Lodging is provided on-site in dorm style accommodations with shared bathrooms. \nMeals: All meals are provided on-site \n\n\n\n\nCost: The true cost of Camp No Limits is $1000 per person. Thanks to generous donations\, and fundraising efforts\, we’re able to significantly offset costs to offer camp to our families at $500 per person. \nTransportation: Families are responsible for transportation to and from camp. It is possible to take an Uber or Lyft to camp. \nSuggested airports: \n\nO’Hare International Airport – 23 miles to camp
URL:https://kineticpros.com/event/camp-no-limits-pivot180-rotationplasty-illinois/
LOCATION:Lake Forest Academy\, 1500 West Kennedy Road\, Lake Forest\, IL\, 60045\, United States
CATEGORIES:Camp No Limits
ATTACH;FMTTYPE=image/jpeg:https://kineticpros.com/wp-content/uploads/2022/01/Logo.jpg
ORGANIZER;CN="Camp No Limits":MAILTO:info@nolimitsfoundation.org
END:VEVENT
BEGIN:VEVENT
DTSTART;VALUE=DATE:20230622
DTEND;VALUE=DATE:20230626
DTSTAMP:20260421T215351
CREATED:20221221T190359Z
LAST-MODIFIED:20230127T142338Z
UID:1527-1687392000-1687737599@kineticpros.com
SUMMARY:Camp No Limits - Illinois
DESCRIPTION:Camp No Limits – Illinois takes place at Lake Forest Academy. Enjoy the beautiful campus\, organic gardens\, wildlife discovery center\, swimming\, kayaking\, track and field\, sports chairs and a fun filled adventure afternoon! Join in for sessions including energizers\, OT/PT/Sibling Club life skills sessions\, biking clinic\, running clinic\, peer support groups\, dance\, talent show\, 80’s themed group activity\, and more! \n  \n\n\nCamp Details\n\n\n\n\nLocation: Lake Forest\, Illinois \nHost Facility: Lake Forest Academy \nEligibility: Children with limb loss or limb difference and their families \nCamp Date: June 22-25\, 2023 \nProgram Partner: GLASA will be providing instructors and adaptive equipment for activities. \n\n\n\n\nLodging: Lodging is provided on-site in dorm style accommodations with shared bathrooms. \nMeals: All meals are provided on-site. \n\n\n\n\nCost: The true cost of Camp No Limits is $1000 per person. Thanks to generous donations\, and fundraising efforts\, we’re able to significantly offset costs to offer camp to our families at $500 per person. \nTransportation: Families are responsible for transportation to and from camp. It is possible to take an Uber or Lyft to camp. \nSuggested airports: \n\nO’Hare International Airport – 23 miles to camp
URL:https://kineticpros.com/event/camp-no-limits-illinois-2/
LOCATION:Lake Forest Academy\, 1500 West Kennedy Road\, Lake Forest\, IL\, 60045\, United States
CATEGORIES:Camp No Limits
ATTACH;FMTTYPE=image/jpeg:https://kineticpros.com/wp-content/uploads/2022/01/Logo.jpg
ORGANIZER;CN="Camp No Limits":MAILTO:info@nolimitsfoundation.org
END:VEVENT
END:VCALENDAR