BEGIN:VCALENDAR
VERSION:2.0
PRODID:-//Kinetic Prosthetics - ECPv6.15.20//NONSGML v1.0//EN
CALSCALE:GREGORIAN
METHOD:PUBLISH
X-ORIGINAL-URL:https://kineticpros.com
X-WR-CALDESC:Events for Kinetic Prosthetics
REFRESH-INTERVAL;VALUE=DURATION:PT1H
X-Robots-Tag:noindex
X-PUBLISHED-TTL:PT1H
BEGIN:VTIMEZONE
TZID:America/New_York
BEGIN:DAYLIGHT
TZOFFSETFROM:-0500
TZOFFSETTO:-0400
TZNAME:EDT
DTSTART:20220313T070000
END:DAYLIGHT
BEGIN:STANDARD
TZOFFSETFROM:-0400
TZOFFSETTO:-0500
TZNAME:EST
DTSTART:20221106T060000
END:STANDARD
BEGIN:DAYLIGHT
TZOFFSETFROM:-0500
TZOFFSETTO:-0400
TZNAME:EDT
DTSTART:20230312T070000
END:DAYLIGHT
BEGIN:STANDARD
TZOFFSETFROM:-0400
TZOFFSETTO:-0500
TZNAME:EST
DTSTART:20231105T060000
END:STANDARD
BEGIN:DAYLIGHT
TZOFFSETFROM:-0500
TZOFFSETTO:-0400
TZNAME:EDT
DTSTART:20240310T070000
END:DAYLIGHT
BEGIN:STANDARD
TZOFFSETFROM:-0400
TZOFFSETTO:-0500
TZNAME:EST
DTSTART:20241103T060000
END:STANDARD
END:VTIMEZONE
BEGIN:VEVENT
DTSTART;TZID=America/New_York:20230602T130000
DTEND;TZID=America/New_York:20230602T150000
DTSTAMP:20260423T064942
CREATED:20230208T160939Z
LAST-MODIFIED:20240216T150341Z
UID:1725-1685710800-1685718000@kineticpros.com
SUMMARY:First Swing Seminar & Learn to Golf Clinic - Action Potential PT
DESCRIPTION:The First Swing Seminar & Learn to Golf Clinic is for people with disabilities\, therapists and golf professionals!\n\nThis is a free hands-on clinic! Individuals will learn:\n\n 	The basics of golf\n 	Enable therapists and golf professionals to instruct using adaptive golf techniques\n 	Provide an opportunity to discover a lifelong leisure activity\n\nA HUGE Thank you to the National Amputee Golf Association (NAGA)\, Action Potential PT\, Penn Oaks Golf Club and the Eastern Amputee Golf Association for making this and all their other events inclusive for the adaptive community!
URL:https://kineticpros.com/event/first-swing-seminar-learn-to-golf-clinic-action-potential-pt/
LOCATION:Penn Oaks Golf Club\, 150 Penn Oaks Drive\, West Chester\, PA\, 19382\, United States
CATEGORIES:EAGA,First Swing - Golf
ATTACH;FMTTYPE=image/jpeg:https://kineticpros.com/wp-content/uploads/2022/07/H.-Robertshaw-A.-Martin-and-J.-Sulock-@-First-Swing.jpg
END:VEVENT
END:VCALENDAR