BEGIN:VCALENDAR
VERSION:2.0
PRODID:-//Kinetic Prosthetics - ECPv6.15.20//NONSGML v1.0//EN
CALSCALE:GREGORIAN
METHOD:PUBLISH
X-ORIGINAL-URL:https://kineticpros.com
X-WR-CALDESC:Events for Kinetic Prosthetics
REFRESH-INTERVAL;VALUE=DURATION:PT1H
X-Robots-Tag:noindex
X-PUBLISHED-TTL:PT1H
BEGIN:VTIMEZONE
TZID:America/New_York
BEGIN:DAYLIGHT
TZOFFSETFROM:-0500
TZOFFSETTO:-0400
TZNAME:EDT
DTSTART:20210314T070000
END:DAYLIGHT
BEGIN:STANDARD
TZOFFSETFROM:-0400
TZOFFSETTO:-0500
TZNAME:EST
DTSTART:20211107T060000
END:STANDARD
BEGIN:DAYLIGHT
TZOFFSETFROM:-0500
TZOFFSETTO:-0400
TZNAME:EDT
DTSTART:20220313T070000
END:DAYLIGHT
BEGIN:STANDARD
TZOFFSETFROM:-0400
TZOFFSETTO:-0500
TZNAME:EST
DTSTART:20221106T060000
END:STANDARD
BEGIN:DAYLIGHT
TZOFFSETFROM:-0500
TZOFFSETTO:-0400
TZNAME:EDT
DTSTART:20230312T070000
END:DAYLIGHT
BEGIN:STANDARD
TZOFFSETFROM:-0400
TZOFFSETTO:-0500
TZNAME:EST
DTSTART:20231105T060000
END:STANDARD
END:VTIMEZONE
BEGIN:VEVENT
DTSTART;TZID=America/New_York:20220501T080000
DTEND;TZID=America/New_York:20220501T140000
DTSTAMP:20260423T000615
CREATED:20220322T154021Z
LAST-MODIFIED:20220322T154545Z
UID:1214-1651392000-1651413600@kineticpros.com
SUMMARY:2022 Cinco de Mayo Benefit Bike Ride and Walk
DESCRIPTION:The Ride and Walk benefit the Pennsylvania Center for Adapted Sports (PCAS) and the people with disabilities we serve. \nThe ride & walk is marked by community spirit\, determination\, and fun. Join us all for a day of scenic routes\, great food\, and inspiring athletes. We’ll unite in our mission to make sports and recreation possible for people with disabilities. Your participation in the event will ensure that PCAS can continue their mission to build inclusive communities that improve the health of people with disabilities through sport and wellness programs. \nRegister on their website: https://cincodemayoride.org/ \nThis event will be also be livestreamed on our Givebutter website: https://givebutter.com/CDM22 in case you are unable to make it in person. \nParking is available at 220 Valley Creek Boulevard\, Exton\, PA 19341. All traffic must enter parking via Valley Creek Boulevard. Registration opens at 7:30 am with varied start times. This is a rain or shine event. Helmets are required for ALL cyclists.
URL:https://kineticpros.com/event/2022-cinco-de-mayo-benefit-bike-ride-and-walk/
LOCATION:Chester Valley Trail Parking Area\, 132 Church Farm Ln\, Exton\, PA\, 19341\, United States
CATEGORIES:Runs & Walks
ATTACH;FMTTYPE=image/png:https://kineticpros.com/wp-content/uploads/2022/03/CincodeMayo2022PCASFundraiser-e1676646156375.png
END:VEVENT
END:VCALENDAR